BEGIN:VCALENDAR
VERSION:2.0
PRODID:-//Welcome to PurView - ECPv6.15.4//NONSGML v1.0//EN
CALSCALE:GREGORIAN
METHOD:PUBLISH
X-ORIGINAL-URL:https://www.purview.ca
X-WR-CALDESC:Events for Welcome to PurView
REFRESH-INTERVAL;VALUE=DURATION:PT1H
X-Robots-Tag:noindex
X-PUBLISHED-TTL:PT1H
BEGIN:VTIMEZONE
TZID:America/Toronto
BEGIN:DAYLIGHT
TZOFFSETFROM:-0500
TZOFFSETTO:-0400
TZNAME:EDT
DTSTART:20240310T070000
END:DAYLIGHT
BEGIN:STANDARD
TZOFFSETFROM:-0400
TZOFFSETTO:-0500
TZNAME:EST
DTSTART:20241103T060000
END:STANDARD
END:VTIMEZONE
BEGIN:VEVENT
DTSTART;VALUE=DATE:20240213
DTEND;VALUE=DATE:20240214
DTSTAMP:20260420T064645
CREATED:20240122T162154Z
LAST-MODIFIED:20240122T162257Z
UID:5466-1707782400-1707868799@www.purview.ca
SUMMARY:Ottawa Mortgage Symposium
DESCRIPTION:
URL:https://www.purview.ca/event/ottawa-mortgage-symposium/
LOCATION:Infinity Convention Centre\, 2901 Gibford Dr\, Ottawa\, Ontario\, K1V 2L9\, Canada
ATTACH;FMTTYPE=image/png:https://www.purview.ca/wp-content/uploads/2023/04/MPC-1.png
END:VEVENT
END:VCALENDAR