BEGIN:VCALENDAR
VERSION:2.0
PRODID:-//Welcome to PurView - ECPv6.15.4//NONSGML v1.0//EN
CALSCALE:GREGORIAN
METHOD:PUBLISH
X-ORIGINAL-URL:https://www.purview.ca
X-WR-CALDESC:Events for Welcome to PurView
REFRESH-INTERVAL;VALUE=DURATION:PT1H
X-Robots-Tag:noindex
X-PUBLISHED-TTL:PT1H
BEGIN:VTIMEZONE
TZID:America/Toronto
BEGIN:DAYLIGHT
TZOFFSETFROM:-0500
TZOFFSETTO:-0400
TZNAME:EDT
DTSTART:20240310T070000
END:DAYLIGHT
BEGIN:STANDARD
TZOFFSETFROM:-0400
TZOFFSETTO:-0500
TZNAME:EST
DTSTART:20241103T060000
END:STANDARD
END:VTIMEZONE
BEGIN:VEVENT
DTSTART;VALUE=DATE:20240912
DTEND;VALUE=DATE:20240913
DTSTAMP:20260420T070450
CREATED:20240906T155549Z
LAST-MODIFIED:20240906T155549Z
UID:5562-1726099200-1726185599@www.purview.ca
SUMMARY:CSCA Conference and AGM
DESCRIPTION:
URL:https://www.purview.ca/event/csca-conference-and-agm/
LOCATION:Niagara Fallsview Casino Resort\, 6380 Fallsview Blvd\, Niagara Falls\, Ontario
ATTACH;FMTTYPE=image/jpeg:https://www.purview.ca/wp-content/uploads/2024/09/csca-logo.jpg
END:VEVENT
BEGIN:VEVENT
DTSTART;VALUE=DATE:20240922
DTEND;VALUE=DATE:20240925
DTSTAMP:20260420T070450
CREATED:20240709T152200Z
LAST-MODIFIED:20240709T152346Z
UID:5551-1726963200-1727222399@www.purview.ca
SUMMARY:2024 CSRSA Conference - Innovation and Disruption: Strategies for Success
DESCRIPTION:
URL:https://www.purview.ca/event/2024-csrsa-conference-innovation-and-disruption-strategies-for-success/
LOCATION:Westin Trillium House\, Blue Mountain\, 220 Gord Canning Dr\, The Blue Mountains\, ON\, L9Y 0V9\, Canada
ATTACH;FMTTYPE=image/png:https://www.purview.ca/wp-content/uploads/2024/07/logo.png
END:VEVENT
END:VCALENDAR