BEGIN:VCALENDAR
VERSION:2.0
PRODID:-//Welcome to PurView - ECPv6.15.4//NONSGML v1.0//EN
CALSCALE:GREGORIAN
METHOD:PUBLISH
X-ORIGINAL-URL:https://www.purview.ca
X-WR-CALDESC:Events for Welcome to PurView
REFRESH-INTERVAL;VALUE=DURATION:PT1H
X-Robots-Tag:noindex
X-PUBLISHED-TTL:PT1H
BEGIN:VTIMEZONE
TZID:America/Toronto
BEGIN:DAYLIGHT
TZOFFSETFROM:-0500
TZOFFSETTO:-0400
TZNAME:EDT
DTSTART:20220313T070000
END:DAYLIGHT
BEGIN:STANDARD
TZOFFSETFROM:-0400
TZOFFSETTO:-0500
TZNAME:EST
DTSTART:20221106T060000
END:STANDARD
END:VTIMEZONE
BEGIN:VEVENT
DTSTART;TZID=America/Toronto:20221016T073000
DTEND;TZID=America/Toronto:20221017T190000
DTSTAMP:20260421T114743
CREATED:20220927T150955Z
LAST-MODIFIED:20221013T215400Z
UID:10000070-1665905400-1666033200@www.purview.ca
SUMMARY:2022 National Mortgage Conference
DESCRIPTION:
URL:https://www.purview.ca/event/2022-national-mortgage-conference/
LOCATION:Vancouver Convention Centre\, 1055 Canada Pl\, Vancouver\, British Columbia\, V6C 0C3\, Canada
ATTACH;FMTTYPE=image/png:https://www.purview.ca/wp-content/uploads/2022/09/purview-event-.png
END:VEVENT
END:VCALENDAR