BEGIN:VCALENDAR
VERSION:2.0
PRODID:-//Welcome to PurView - ECPv6.15.4//NONSGML v1.0//EN
CALSCALE:GREGORIAN
METHOD:PUBLISH
X-ORIGINAL-URL:https://www.purview.ca
X-WR-CALDESC:Events for Welcome to PurView
REFRESH-INTERVAL;VALUE=DURATION:PT1H
X-Robots-Tag:noindex
X-PUBLISHED-TTL:PT1H
BEGIN:VTIMEZONE
TZID:America/Toronto
BEGIN:DAYLIGHT
TZOFFSETFROM:-0500
TZOFFSETTO:-0400
TZNAME:EDT
DTSTART:20210314T070000
END:DAYLIGHT
BEGIN:STANDARD
TZOFFSETFROM:-0400
TZOFFSETTO:-0500
TZNAME:EST
DTSTART:20211107T060000
END:STANDARD
END:VTIMEZONE
BEGIN:VEVENT
DTSTART;VALUE=DATE:20211013
DTEND;VALUE=DATE:20211016
DTSTAMP:20260421T112336
CREATED:20210930T175002Z
LAST-MODIFIED:20210930T175002Z
UID:5225-1634094000-1634266799@www.purview.ca
SUMMARY:Virtual Fall Mortgage Symposium 2021
DESCRIPTION:From inventive ideas on networking\, planning for a post pandemic future and an informative housing update\, the 2021 Virtual Mortgage Symposium is a must-attend event. These two exciting afternoons will be filled with presentations from industry leaders\, including an inspiring conversation with Simon Sinek\, Renowned Leadership Expert.\n\nTeranet will be an exhibitor during the tradeshow portion of the 2021 Virtual Mortgage Symposium – please stop by and say hello!
URL:https://www.purview.ca/event/virtual-fall-mortgage-symposium-2021-2/
LOCATION:Virtual
ATTACH;FMTTYPE=image/png:https://www.purview.ca/wp-content/uploads/2021/09/virtual_mortgage_symposium_new.png
END:VEVENT
END:VCALENDAR